
BEGIN:VCALENDAR
VERSION:2.0
PRODID:-//jEvents 1.5 for Joomla//EN
BEGIN:VEVENT
UID:2b0d4086f13e8427b622e9df9ce70138
CATEGORIES:Congresos y Jornadas externos
SUMMARY:Mesa Redonda "Distintos aspectos del alzheimer, a debate"
LOCATION:
DESCRIPTION;ENCODING=QUOTED-PRINTABLE:\n\nLos aspectos legales relacionados con el alzhéimer y la enfermedad des
 de el punto de vista de los cuidadores serán algunos de los temas que se t
 ratarán en una mesa redonda en la que participarán Alba Hueros, directora
  de AFAEX, y Tomás Salas Chaves, asesor jurídico de la Oficina para la De
 fensa de los Derechos de las Personas con Discapacidad en Extremadura, adem
 ás de la escritora Pepa Gómez, autora del libro 'Ojalá vivas todos los d
 ías de tu vida', en el que narra sus vivencias con el alzhéimer a través
  de su madre enferma.\n\n\nLa Mesa Redonda se celebrará en el Centro Conqu
 istadores de El Corte Inglés, en Badajoz, a las 20.00 horas en la 6ª plan
 ta, dentro del marco del espacio "Ámbito Cultural" de El Corte Inglés.\n\
 n\n\n\n\n\nLocalización: Centro Conquistadores de El Corte Inglés. Sala '
 Ámbito Cultural' 6ª planta. Badajoz\n\n\nFecha: 5 de abril de 2019\n\n\nH
 ora: 20.00 horas\n\n\nEntidad Organizadora: El Corte Inglés\n

DTSTART:20190405T200000
DTEND:20190405T150000
SEQUENCE:0
TRANSP:OPAQUE
END:VEVENT
END:VCALENDAR