
BEGIN:VCALENDAR
VERSION:2.0
PRODID:-//jEvents 1.5 for Joomla//EN
BEGIN:VEVENT
UID:ec403455475d05ec6de3fe0195add0e5
CATEGORIES:Citas y reuniones
SUMMARY:Reunión del Patronato de FUTUEX
LOCATION:
DESCRIPTION;ENCODING=QUOTED-PRINTABLE:\n\nDe conformidad con los artículos 14 y 16 de los Estatutos Sociales, se
  convoca a reunión a los Patronos de FUTUEX: Fundación para la Promoción
  y Apoyo a las Personas con discapacidad, que se celebrará el 20 de junio 
 de 2019, en la sede social de esta Fundación, sita en Plaza de Santa Marí
 a, número 5, de la ciudad de Olivenza, a las 17.00 horas (primera convocat
 oria) y a las 17.30 horas (segunda convocatoria).\n\n\n\n\n\n\nLocalizació
 n:ÂÂ Sede de FUTUEX. Plaza de Santa María, 5. 06100 Olivenza.\n\n\nFech
 a:ÂÂ 20 de junio de 2019\n\n\nHora:ÂÂ 17.00 horas (primera convocator
 ia) y 17.30 horas (segunda convocatoria)\n

DTSTART:20190620T173000
DTEND:20190620T150000
SEQUENCE:0
TRANSP:OPAQUE
END:VEVENT
END:VCALENDAR