
BEGIN:VCALENDAR
VERSION:2.0
PRODID:-//jEvents 1.5 for Joomla//EN
BEGIN:VEVENT
UID:e4da5a88fc1bb552b6c209d0850e1dcf
CATEGORIES:Charlas informativas
SUMMARY:Charla formativa sobre "El Procedimiento de Modificación de la Capacidad"
LOCATION:
DESCRIPTION;ENCODING=QUOTED-PRINTABLE:\n\nLocalización: Down Mérida.\n\n\nFecha: 24 de septiembre de 2019Â \n

DTSTART:20190924T080000
DTEND:20190924T150000
SEQUENCE:0
TRANSP:OPAQUE
END:VEVENT
END:VCALENDAR