
BEGIN:VCALENDAR
VERSION:2.0
PRODID:-//jEvents 1.5 for Joomla//EN
BEGIN:VEVENT
UID:8f14f9e1dd3414494556a93a32a945b7
CATEGORIES:Congresos y Jornadas externos
SUMMARY:II Congreso Nacional de Derecho de la Discapacidad
LOCATION:
DESCRIPTION;ENCODING=QUOTED-PRINTABLE:\n\nLos días 6, 7 y 8 de febrero de 2019 se celebrará en Pamplona el II C
 ongreso Nacional de Derecho de la Discapacidad "Avanzando en la inclusión"
 .\n\n\nEl 31 de enero finaliza el periodo de inscripción.\n\n\nEl mismo es
 tá organizado por la Fundación Derecho y Discapacidad, CERMI estatal y Fu
 ndación Caja Navarrra, y cuenta con la colaboración del Gobierno de Navar
 ra y CERMI-Navarra.\n\n\nAsiste al Congreso D. Tomás Salas, asesor jurídi
 co de FUTUEX.\n\n\n\n\n\n\nLocalización: Palacio de Congresos y Auditorio 
 de Navarra - Baluarte.\n\n\nFecha: 6, 7 y 8 de febrero de 2019\n\n\nHora:Â
  9.00 horas\n\n\nEntidades organizadoras: Fundación Derecho y Discapacida
 d, CERMI Estatal y Fundación Caja Navarra.\n

DTSTART:20190206T090000
DTEND:20190208T140000
SEQUENCE:0
TRANSP:OPAQUE
END:VEVENT
END:VCALENDAR