
BEGIN:VCALENDAR
VERSION:2.0
PRODID:-//jEvents 1.5 for Joomla//EN
BEGIN:VEVENT
UID:89540cf10a9cf22197ab10a927fddb2b
CATEGORIES:Actos conmemorativos
SUMMARY:Premios Solidarios ONCE
LOCATION:
DESCRIPTION;ENCODING=QUOTED-PRINTABLE:\n\nLocalización: Teatro López de Ayala. Badajoz\n\n\nFecha: 9 de octubre
  de 2019.Â \n\n\nEntidad organizadora: ONCE Extremadura.\n\n\n\n\n\n\nEl 
 9 de octubre tiene lugar en el Teatro Lóepz de Ayala de Badajoz la Gala de
  entrega de los Premios Solidarios ONCE Extremadura.\n\n\nLos galardonados 
 son La Federación Extremeña de Deficientes Auditivos y Padres y Amigos de
 l Sordo (FEDAPAS), la sección 'Hoy Solidarios' del diario Hoy, Manuel Lóp
 ez Risco, patrono de FUTUEX y miembro de su comisión ejecutiva, Carrefour 
 y el Ayuntamiento de Don Benito.\n\n\nAsiste al evento José Condiño, Secr
 etario de la Comisión Ejecutiva de FUTUEX.\n

DTSTART:20191009T080000
DTEND:20191009T150000
SEQUENCE:0
TRANSP:OPAQUE
END:VEVENT
END:VCALENDAR