
BEGIN:VCALENDAR
VERSION:2.0
PRODID:-//jEvents 1.5 for Joomla//EN
BEGIN:VEVENT
UID:8092fd6f278e6d44d1a41dc0320c0990
CATEGORIES:Citas y reuniones
SUMMARY:Reunión del Patronato de FUTUEX
LOCATION:
DESCRIPTION;ENCODING=QUOTED-PRINTABLE:\n\nDe conformidad con los artículos 14 y 16 de los Estatutos Sociales, se
  convoca a reunión a los Patronos de FUTUEX: Fundación para la Promoción
  y Apoyo a las Personas con discapacidad, que se celebrará el 18 de diciem
 bre de 2019, en la sede social de esta Fundación, sita en Plaza de Santa M
 aría, número 5, de la ciudad de Olivenza, a las 12.30 horas (primera conv
 ocatoria) y a las 13.00 horas (segunda convocatoria).\n\n\n\n\n\n\nLocaliza
 ción: Sede de FUTUEX. Plaza de Santa María, 5. 06100 Olivenza.\n\n\nFecha
 : 18 de diciembre de 2019\n\n\nHora: 12.30 horas (primera convocatoria) y 1
 3.00 horas (segunda convocatoria)\n

DTSTART:20191218T153000
DTEND:20191218T150000
SEQUENCE:0
TRANSP:OPAQUE
END:VEVENT
END:VCALENDAR