
BEGIN:VCALENDAR
VERSION:2.0
PRODID:-//jEvents 1.5 for Joomla//EN
BEGIN:VEVENT
UID:c9c38d709d2306b64a156be1d6464860
CATEGORIES:Charlas informativas
SUMMARY:Charla fomativa en materia de modificación de obrar y tutela para familias de enfermos de Alzheimer
LOCATION:
DESCRIPTION;ENCODING=QUOTED-PRINTABLE:\n\nEl 26 de marzo se imparte una charla formativa para familias de enfermo
 s de Alzheimer en materia de modificación de obrar y tutela. La charla ten
 drá lugar en el ámbito de la Feria de Salud de Montijo.\n\n\n\n\n\n\nLoca
 lización: Montijo.\n\n\nFecha: 26 de marzo de 2019.\n

DTSTART:20190326T080000
DTEND:20190326T150000
SEQUENCE:0
TRANSP:OPAQUE
END:VEVENT
END:VCALENDAR