
BEGIN:VCALENDAR
VERSION:2.0
PRODID:-//jEvents 1.5 for Joomla//EN
BEGIN:VEVENT
UID:2568d78a591aae5ca07370ee68c242f9
CATEGORIES:Citas y reuniones
SUMMARY:Reunión de la Comisión Ejecutiva con el Presidente de la Junta de Extremadura
LOCATION:
DESCRIPTION;ENCODING=QUOTED-PRINTABLE:\n\nEl 2 de abril, la Comisión Ejecutiva de FUTUEX se reúne con el Excmo.
  Presidente de la Junta de Extremadura, D. Guillermo Fernández Vara.\n\n\n
  \n\n - Fecha: 2 de abril.

DTSTART:20190402T090000
DTEND:20190402T150000
SEQUENCE:0
TRANSP:OPAQUE
END:VEVENT
END:VCALENDAR